BEGIN:VCALENDAR
VERSION:2.0
PRODID:-//Centar za održivi razvoj lokalne zajednice općine Lovas - ECPv5.10.1//NONSGML v1.0//EN
CALSCALE:GREGORIAN
METHOD:PUBLISH
X-WR-CALNAME:Centar za održivi razvoj lokalne zajednice općine Lovas
X-ORIGINAL-URL:https://www.cor-lovas.org/home
X-WR-CALDESC:Događaji za Centar za održivi razvoj lokalne zajednice općine Lovas
BEGIN:VTIMEZONE
TZID:Europe/Paris
BEGIN:DAYLIGHT
TZOFFSETFROM:+0100
TZOFFSETTO:+0200
TZNAME:CEST
DTSTART:20210328T010000
END:DAYLIGHT
BEGIN:STANDARD
TZOFFSETFROM:+0200
TZOFFSETTO:+0100
TZNAME:CET
DTSTART:20211031T010000
END:STANDARD
END:VTIMEZONE
BEGIN:VEVENT
DTSTART;TZID=Europe/Paris:20211202T100000
DTEND;TZID=Europe/Paris:20211202T120000
DTSTAMP:20260421T074013
CREATED:20220523T133613Z
LAST-MODIFIED:20220523T133613Z
UID:3652-1638439200-1638446400@www.cor-lovas.org
SUMMARY:Upravljanje DC - Sastanak PMT
DESCRIPTION:
URL:https://www.cor-lovas.org/home/aktivnost/upravljanje-dc-sastanak-pmt-3/
LOCATION:Centar kompetencija\, Ljudevita Gaja 2\, Lovas\, 32237\, Croatia (Local Name: Hrvatska)
CATEGORIES:Sastanci
END:VEVENT
BEGIN:VEVENT
DTSTART;TZID=Europe/Paris:20211206T100000
DTEND;TZID=Europe/Paris:20211206T110000
DTSTAMP:20260421T074013
CREATED:20220523T131725Z
LAST-MODIFIED:20220523T131725Z
UID:3645-1638784800-1638788400@www.cor-lovas.org
SUMMARY:Umrežavanje s dionicima
DESCRIPTION:
URL:https://www.cor-lovas.org/home/aktivnost/umrezavanje-s-dionicima/
LOCATION:Centar kompetencija\, Ljudevita Gaja 2\, Lovas\, 32237\, Croatia (Local Name: Hrvatska)
CATEGORIES:Sastanci
END:VEVENT
BEGIN:VEVENT
DTSTART;TZID=Europe/Paris:20211208T120000
DTEND;TZID=Europe/Paris:20211208T130000
DTSTAMP:20260421T074013
CREATED:20220523T131843Z
LAST-MODIFIED:20220523T131843Z
UID:3647-1638964800-1638968400@www.cor-lovas.org
SUMMARY:Umrežavanje s dionicima
DESCRIPTION:
URL:https://www.cor-lovas.org/home/aktivnost/umrezavanje-s-dionicima-2/
LOCATION:Centar kompetencija\, Ljudevita Gaja 2\, Lovas\, 32237\, Croatia (Local Name: Hrvatska)
CATEGORIES:Sastanci
END:VEVENT
BEGIN:VEVENT
DTSTART;TZID=Europe/Paris:20211210T102000
DTEND;TZID=Europe/Paris:20211210T113000
DTSTAMP:20260421T074013
CREATED:20220523T133755Z
LAST-MODIFIED:20220523T133755Z
UID:3656-1639131600-1639135800@www.cor-lovas.org
SUMMARY:Upravljanje DC - Sastanak PMT
DESCRIPTION:
URL:https://www.cor-lovas.org/home/aktivnost/upravljanje-dc-sastanak-pmt-5/
LOCATION:Centar kompetencija\, Ljudevita Gaja 2\, Lovas\, 32237\, Croatia (Local Name: Hrvatska)
CATEGORIES:Sastanci
END:VEVENT
BEGIN:VEVENT
DTSTART;TZID=Europe/Paris:20211220T100000
DTEND;TZID=Europe/Paris:20211220T110000
DTSTAMP:20260421T074013
CREATED:20220523T133901Z
LAST-MODIFIED:20220523T133901Z
UID:3658-1639994400-1639998000@www.cor-lovas.org
SUMMARY:Upravljanje DC - Sastanak PMT
DESCRIPTION:
URL:https://www.cor-lovas.org/home/aktivnost/upravljanje-dc-sastanak-pmt-6/
LOCATION:Centar kompetencija\, Ljudevita Gaja 2\, Lovas\, 32237\, Croatia (Local Name: Hrvatska)
CATEGORIES:Sastanci
END:VEVENT
BEGIN:VEVENT
DTSTART;TZID=Europe/Paris:20211220T120000
DTEND;TZID=Europe/Paris:20211220T143000
DTSTAMP:20260421T074013
CREATED:20220523T132207Z
LAST-MODIFIED:20220523T132207Z
UID:3649-1640001600-1640010600@www.cor-lovas.org
SUMMARY:Umrežavanje s dionicima
DESCRIPTION:
URL:https://www.cor-lovas.org/home/aktivnost/umrezavanje-s-dionicima-3/
LOCATION:Centar kompetencija\, Ljudevita Gaja 2\, Lovas\, 32237\, Croatia (Local Name: Hrvatska)
CATEGORIES:Sastanci
END:VEVENT
BEGIN:VEVENT
DTSTART;TZID=Europe/Paris:20211229T100000
DTEND;TZID=Europe/Paris:20211229T113000
DTSTAMP:20260421T074013
CREATED:20220523T133948Z
LAST-MODIFIED:20220523T133948Z
UID:3660-1640772000-1640777400@www.cor-lovas.org
SUMMARY:Upravljanje DC - Sastanak PMT
DESCRIPTION:
URL:https://www.cor-lovas.org/home/aktivnost/upravljanje-dc-sastanak-pmt-7/
LOCATION:Centar kompetencija\, Ljudevita Gaja 2\, Lovas\, 32237\, Croatia (Local Name: Hrvatska)
CATEGORIES:Sastanci
END:VEVENT
END:VCALENDAR