BEGIN:VCALENDAR
VERSION:2.0
PRODID:-//Centar za održivi razvoj lokalne zajednice općine Lovas - ECPv5.10.1//NONSGML v1.0//EN
CALSCALE:GREGORIAN
METHOD:PUBLISH
X-WR-CALNAME:Centar za održivi razvoj lokalne zajednice općine Lovas
X-ORIGINAL-URL:https://www.cor-lovas.org/home
X-WR-CALDESC:Događaji za Centar za održivi razvoj lokalne zajednice općine Lovas
BEGIN:VTIMEZONE
TZID:Europe/Paris
BEGIN:DAYLIGHT
TZOFFSETFROM:+0100
TZOFFSETTO:+0200
TZNAME:CEST
DTSTART:20220327T010000
END:DAYLIGHT
BEGIN:STANDARD
TZOFFSETFROM:+0200
TZOFFSETTO:+0100
TZNAME:CET
DTSTART:20221030T010000
END:STANDARD
END:VTIMEZONE
BEGIN:VEVENT
DTSTART;TZID=Europe/Paris:20220201T140000
DTEND;TZID=Europe/Paris:20220201T150000
DTSTAMP:20260421T045317
CREATED:20220207T121841Z
LAST-MODIFIED:20220524T081956Z
UID:3247-1643724000-1643727600@www.cor-lovas.org
SUMMARY:Upravljanje DC-om - sastanak partnera
DESCRIPTION:U utorak 01.02.2022. od 14:00 do 15:00 sati održati će se Sastanak s partnerim Udrugom vinogradara i vinara “Srijem” u vezi provedbe programa Centra.
URL:https://www.cor-lovas.org/home/aktivnost/upravljanje-dc-om-sastanak-partnera/
LOCATION:Centar kompetencija\, Ljudevita Gaja 2\, Lovas\, 32237\, Croatia (Local Name: Hrvatska)
CATEGORIES:Sastanci
ATTACH;FMTTYPE=image/png:https://www.cor-lovas.org/wp-content/uploads/2021/11/Screenshot-2021-11-06-132908.png
END:VEVENT
BEGIN:VEVENT
DTSTART;TZID=Europe/Paris:20220202T110000
DTEND;TZID=Europe/Paris:20220202T120000
DTSTAMP:20260421T045317
CREATED:20220131T154221Z
LAST-MODIFIED:20220131T154221Z
UID:3238-1643799600-1643803200@www.cor-lovas.org
SUMMARY:Službeno potpisivanje Sporazuma o partnerstvu Agroklaste Vukovarsko - srijemsko županije
DESCRIPTION:Izuzetno nam je zadovoljstvo pozvati Vas na službeno potpisivanje Sporazuma o partnerstvu na projektu Centar za održivi razvoj lokalne zajednice općine Lovas UP.04.2.1.07.0114\, s dva nova partnera – Klasterom proizvođača orašastih plodova Vukovarsko – srijemske županije i Klasterom proizvođača voća i voćnih proizvoda Vukovarsko – srijemske županije\, koje će se održati u srijedu\, 2. veljače 2022. godine\, s početkom u 11:00 sati u Centru kompetencija\, Lj. Gaja 2\, Lovas.  \n  \n 
URL:https://www.cor-lovas.org/home/aktivnost/sluzbeno-potpisivanje-sporazuma-o-partnerstvu-agroklaste-vukovarsko-srijemsko-zupanije/
LOCATION:Centar kompetencija\, Ljudevita Gaja 2\, Lovas\, 32237\, Croatia (Local Name: Hrvatska)
CATEGORIES:Sastanci
ATTACH;FMTTYPE=image/jpeg:https://www.cor-lovas.org/wp-content/uploads/2021/11/Lovas_2-scaled.jpg
END:VEVENT
BEGIN:VEVENT
DTSTART;TZID=Europe/Paris:20220209T150000
DTEND;TZID=Europe/Paris:20220209T153000
DTSTAMP:20260421T045317
CREATED:20220524T092827Z
LAST-MODIFIED:20220524T092827Z
UID:3672-1644418800-1644420600@www.cor-lovas.org
SUMMARY:Upravljanje DC: Sastanak PMT
DESCRIPTION:
URL:https://www.cor-lovas.org/home/aktivnost/upravljanje-dc-sastanak-pmt-8/
LOCATION:Centar kompetencija\, Ljudevita Gaja 2\, Lovas\, 32237\, Croatia (Local Name: Hrvatska)
CATEGORIES:Sastanci
END:VEVENT
BEGIN:VEVENT
DTSTART;TZID=Europe/Paris:20220215T130000
DTEND;TZID=Europe/Paris:20220215T143000
DTSTAMP:20260421T045317
CREATED:20220524T093342Z
LAST-MODIFIED:20220524T093342Z
UID:3674-1644930000-1644935400@www.cor-lovas.org
SUMMARY:Upravljanje DC: Sastanak PMT
DESCRIPTION:
URL:https://www.cor-lovas.org/home/aktivnost/upravljanje-dc-sastanak-pmt-9/
LOCATION:Centar kompetencija\, Ljudevita Gaja 2\, Lovas\, 32237\, Croatia (Local Name: Hrvatska)
CATEGORIES:Sastanci
END:VEVENT
BEGIN:VEVENT
DTSTART;TZID=Europe/Paris:20220223T080000
DTEND;TZID=Europe/Paris:20220223T083000
DTSTAMP:20260421T045317
CREATED:20220524T094542Z
LAST-MODIFIED:20220524T094542Z
UID:3680-1645603200-1645605000@www.cor-lovas.org
SUMMARY:Sastanak PMT i JLS
DESCRIPTION:
URL:https://www.cor-lovas.org/home/aktivnost/sastanak-pmt-i-jls/
LOCATION:Centar kompetencija\, Ljudevita Gaja 2\, Lovas\, 32237\, Croatia (Local Name: Hrvatska)
CATEGORIES:Sastanci
END:VEVENT
BEGIN:VEVENT
DTSTART;TZID=Europe/Paris:20220223T110000
DTEND;TZID=Europe/Paris:20220223T120000
DTSTAMP:20260421T045317
CREATED:20220524T094451Z
LAST-MODIFIED:20220524T094451Z
UID:3678-1645614000-1645617600@www.cor-lovas.org
SUMMARY:Upravljanje DC: Sastanak PMT
DESCRIPTION:
URL:https://www.cor-lovas.org/home/aktivnost/upravljanje-dc-sastanak-pmt-11/
LOCATION:Centar kompetencija\, Ljudevita Gaja 2\, Lovas\, 32237\, Croatia (Local Name: Hrvatska)
CATEGORIES:Sastanci
END:VEVENT
END:VCALENDAR