BEGIN:VCALENDAR
VERSION:2.0
PRODID:-//Centar za održivi razvoj lokalne zajednice općine Lovas - ECPv5.10.1//NONSGML v1.0//EN
CALSCALE:GREGORIAN
METHOD:PUBLISH
X-WR-CALNAME:Centar za održivi razvoj lokalne zajednice općine Lovas
X-ORIGINAL-URL:https://www.cor-lovas.org/home
X-WR-CALDESC:Događaji za Centar za održivi razvoj lokalne zajednice općine Lovas
BEGIN:VTIMEZONE
TZID:Europe/Paris
BEGIN:DAYLIGHT
TZOFFSETFROM:+0100
TZOFFSETTO:+0200
TZNAME:CEST
DTSTART:20220327T010000
END:DAYLIGHT
BEGIN:STANDARD
TZOFFSETFROM:+0200
TZOFFSETTO:+0100
TZNAME:CET
DTSTART:20221030T010000
END:STANDARD
END:VTIMEZONE
BEGIN:VEVENT
DTSTART;TZID=Europe/Paris:20221006T120000
DTEND;TZID=Europe/Paris:20221006T123000
DTSTAMP:20260420T080042
CREATED:20221108T121314Z
LAST-MODIFIED:20221108T121314Z
UID:4511-1665057600-1665059400@www.cor-lovas.org
SUMMARY:Sastanak PMT
DESCRIPTION:
URL:https://www.cor-lovas.org/home/aktivnost/sastanak-pmt/
LOCATION:Centar kompetencija\, Ljudevita Gaja 2\, Lovas\, 32237\, Croatia (Local Name: Hrvatska)
CATEGORIES:Sastanci
END:VEVENT
BEGIN:VEVENT
DTSTART;TZID=Europe/Paris:20221010T090000
DTEND;TZID=Europe/Paris:20221010T120000
DTSTAMP:20260420T080042
CREATED:20221108T121401Z
LAST-MODIFIED:20221108T121401Z
UID:4513-1665392400-1665403200@www.cor-lovas.org
SUMMARY:Sastanak PMT
DESCRIPTION:
URL:https://www.cor-lovas.org/home/aktivnost/sastanak-pmt-2/
LOCATION:Centar kompetencija\, Ljudevita Gaja 2\, Lovas\, 32237\, Croatia (Local Name: Hrvatska)
CATEGORIES:Sastanci
END:VEVENT
BEGIN:VEVENT
DTSTART;TZID=Europe/Paris:20221011T110000
DTEND;TZID=Europe/Paris:20221011T123000
DTSTAMP:20260420T080042
CREATED:20221108T121622Z
LAST-MODIFIED:20221108T121622Z
UID:4517-1665486000-1665491400@www.cor-lovas.org
SUMMARY:Sastanak Upravnog Odbora Centra
DESCRIPTION:
URL:https://www.cor-lovas.org/home/aktivnost/sastanak-upravnog-odbora-centra/
LOCATION:Centar kompetencija\, Ljudevita Gaja 2\, Lovas\, 32237\, Croatia (Local Name: Hrvatska)
CATEGORIES:Sastanci
END:VEVENT
BEGIN:VEVENT
DTSTART;TZID=Europe/Paris:20221024T100000
DTEND;TZID=Europe/Paris:20221024T113000
DTSTAMP:20260420T080042
CREATED:20221108T121715Z
LAST-MODIFIED:20221108T121715Z
UID:4519-1666605600-1666611000@www.cor-lovas.org
SUMMARY:Sastanak PMT
DESCRIPTION:
URL:https://www.cor-lovas.org/home/aktivnost/sastanak-pmt-3/
LOCATION:Centar kompetencija\, Ljudevita Gaja 2\, Lovas\, 32237\, Croatia (Local Name: Hrvatska)
CATEGORIES:Sastanci
END:VEVENT
END:VCALENDAR